BEGIN:VCALENDAR
VERSION:2.0
PRODID:-//عين السودان - ECPv6.15.9//NONSGML v1.0//EN
CALSCALE:GREGORIAN
METHOD:PUBLISH
X-WR-CALNAME:عين السودان
X-ORIGINAL-URL:https://eyeofsudan.com
X-WR-CALDESC:Events for عين السودان
REFRESH-INTERVAL;VALUE=DURATION:PT1H
X-Robots-Tag:noindex
X-PUBLISHED-TTL:PT1H
BEGIN:VTIMEZONE
TZID:Africa/Khartoum
BEGIN:STANDARD
TZOFFSETFROM:+0200
TZOFFSETTO:+0200
TZNAME:CAT
DTSTART:20240101T000000
END:STANDARD
END:VTIMEZONE
BEGIN:VEVENT
DTSTART;VALUE=DATE:20251012
DTEND;VALUE=DATE:20261016
DTSTAMP:20260420T162013
CREATED:20251016T143512Z
LAST-MODIFIED:20251016T143633Z
UID:10000004-1760227200-1792108799@eyeofsudan.com
SUMMARY:مؤتمر عين السودان الشهري
DESCRIPTION:تفاصيل الفعالية
URL:https://eyeofsudan.com/event/%d9%85%d8%a4%d8%aa%d9%85%d8%b1-%d8%b9%d9%8a%d9%86-%d8%a7%d9%84%d8%b3%d9%88%d8%af%d8%a7%d9%86-%d8%a7%d9%84%d8%b4%d9%87%d8%b1%d9%8a-2/
LOCATION:مؤتمر عين السودان الشهري\, sudan\,123\, sudan\,123\, sudan\,123\, 52145\, Egypt
CATEGORIES:مؤتمر عين السودان
ATTACH;FMTTYPE=image/jpeg:https://eyeofsudan.com/wp-content/uploads/2025/07/download.jpeg-سودانى.jpeg
END:VEVENT
END:VCALENDAR