BEGIN:VCALENDAR
VERSION:2.0
PRODID:-//عين السودان - ECPv6.15.9//NONSGML v1.0//EN
CALSCALE:GREGORIAN
METHOD:PUBLISH
X-ORIGINAL-URL:https://eyeofsudan.com
X-WR-CALDESC:Events for عين السودان
REFRESH-INTERVAL;VALUE=DURATION:PT1H
X-Robots-Tag:noindex
X-PUBLISHED-TTL:PT1H
BEGIN:VTIMEZONE
TZID:Africa/Khartoum
BEGIN:STANDARD
TZOFFSETFROM:+0200
TZOFFSETTO:+0200
TZNAME:CAT
DTSTART:20240101T000000
END:STANDARD
END:VTIMEZONE
BEGIN:VEVENT
DTSTART;TZID=Africa/Khartoum:20251017T100000
DTEND;TZID=Africa/Khartoum:20251017T120000
DTSTAMP:20260420T191754
CREATED:20251016T145044Z
LAST-MODIFIED:20251016T145643Z
UID:10000006-1760695200-1760702400@eyeofsudan.com
SUMMARY:مؤتمر عين السودان الأسبوعي: تحليل المشهد الحالي
DESCRIPTION:اجتماع لمناقشة آخر المستجدات في الشأن السوداني والخطط المستقبلية لجهود السلام والتنمية. سيتم فتح باب النقاش والحوار الحر بعد العرض الرئيسي.
URL:https://eyeofsudan.com/event/%d9%85%d8%a4%d8%aa%d9%85%d8%b1-%d8%b9%d9%8a%d9%86-%d8%a7%d9%84%d8%b3%d9%88%d8%af%d8%a7%d9%86-%d8%a7%d9%84%d8%a3%d8%b3%d8%a8%d9%88%d8%b9%d9%8a-%d8%aa%d8%ad%d9%84%d9%8a%d9%84-%d8%a7%d9%84%d9%85%d8%b4/
LOCATION:قاعة السلام الدولية\, شارع الجمهورية\, الخرطوم\, الخرطوم\, 11111\, Sudan
CATEGORIES:مؤتمر سياسي
ATTACH;FMTTYPE=image/png:https://eyeofsudan.com/wp-content/uploads/2025/10/sudan-events-1.png
ORGANIZER;CN="%D9%81%D8%B1%D9%8A%D9%82 %D8%B9%D9%8A%D9%86 %D8%A7%D9%84%D8%B3%D9%88%D8%AF%D8%A7%D9%86":MAILTO:info@eyaofsudan.com
END:VEVENT
BEGIN:VEVENT
DTSTART;TZID=Africa/Khartoum:20251012T080000
DTEND;TZID=Africa/Khartoum:20251012T170000
DTSTAMP:20260420T191754
CREATED:20251012T155740Z
LAST-MODIFIED:20251012T155740Z
UID:10000003-1760256000-1760288400@eyeofsudan.com
SUMMARY:مؤتمر عين السودان الشهري
DESCRIPTION:تفاصيل الفعالية
URL:https://eyeofsudan.com/event/%d9%85%d8%a4%d8%aa%d9%85%d8%b1-%d8%b9%d9%8a%d9%86-%d8%a7%d9%84%d8%b3%d9%88%d8%af%d8%a7%d9%86-%d8%a7%d9%84%d8%b4%d9%87%d8%b1%d9%8a/
LOCATION:مؤتمر عين السودان الشهري\, sudan\,123\, sudan\,123\, sudan\,123\, 52145\, Egypt
CATEGORIES:مؤتمر عين السودان
ATTACH;FMTTYPE=image/jpeg:https://eyeofsudan.com/wp-content/uploads/2025/07/download.jpeg-سودانى.jpeg
END:VEVENT
BEGIN:VEVENT
DTSTART;TZID=Africa/Khartoum:20251012T000000
DTEND;TZID=Africa/Khartoum:20251013T000000
DTSTAMP:20260420T191754
CREATED:20251012T152200Z
LAST-MODIFIED:20251012T155233Z
UID:10000002-1760227200-1760313600@eyeofsudan.com
SUMMARY:مؤتمر عين السودان الأسبوعي
DESCRIPTION:  \nمؤتمر عين السودان الأسبوعي \n 
URL:https://eyeofsudan.com/event/%d9%85%d8%a4%d8%aa%d9%85%d8%b1-%d8%b9%d9%8a%d9%86-%d8%a7%d9%84%d8%b3%d9%88%d8%af%d8%a7%d9%86-%d8%a7%d9%84%d8%a3%d8%b3%d8%a8%d9%88%d8%b9%d9%8a/
LOCATION:مؤتمر عين السودان الشهري\, sudan\,123\, sudan\,123\, sudan\,123\, 52145\, Egypt
CATEGORIES:مؤتمر عين السودان
ATTACH;FMTTYPE=image/png:https://eyeofsudan.com/wp-content/uploads/2025/07/Sudan-Fav.png
END:VEVENT
BEGIN:VEVENT
DTSTART;TZID=Africa/Khartoum:20250505T080000
DTEND;TZID=Africa/Khartoum:20250505T150000
DTSTAMP:20260420T191754
CREATED:20250209T123433Z
LAST-MODIFIED:20250830T005238Z
UID:10000001-1746432000-1746457200@eyeofsudan.com
SUMMARY:منتدى مستقبل المشتريات وسلاسل الإمداد
DESCRIPTION:  \n\n\n\nمنتدى مستقبل المشتريات وسلاسل  الإمداد الأهم في العام، الذي يستضيفه CIPS MENA. سيجمع الحدث قادة الفكر العالميين، ورواد الصناعة، والمبتكرين لاستكشاف أحدث الاتجاهات، والاستراتيجيات المتقدمة، والأفكار التحولية التي تشكل مستقبل إدارة المشتريات وسلاسل الإمداد.\n 
URL:https://eyeofsudan.com/event/%d9%85%d9%86%d8%aa%d8%af%d9%89-%d9%85%d8%b3%d8%aa%d9%82%d8%a8%d9%84-%d8%a7%d9%84%d9%85%d8%b4%d8%aa%d8%b1%d9%8a%d8%a7%d8%aa-%d9%88%d8%b3%d9%84%d8%a7%d8%b3%d9%84-%d8%a7%d9%84%d8%a5%d9%85%d8%af%d8%a7/
LOCATION:منتدى مستقبل المشتريات وسلاسل الإمداد\, MMRM+4XQ، طريق الملك فهد، العليا، الرياض 30194، المملكة العربية السعودية\, الرياض\, السعودية\, 30194\, Saudi Arabia
CATEGORIES:منتدي
ATTACH;FMTTYPE=image/jpeg:https://eyeofsudan.com/wp-content/uploads/2025/02/image.jpeg
END:VEVENT
END:VCALENDAR